BEGIN:VCALENDAR
VERSION:2.0
PRODID:-//WestWaters - ECPv6.15.18//NONSGML v1.0//EN
CALSCALE:GREGORIAN
METHOD:PUBLISH
X-ORIGINAL-URL:https://westwatershotel.com.au
X-WR-CALDESC:Events for WestWaters
REFRESH-INTERVAL;VALUE=DURATION:PT1H
X-Robots-Tag:noindex
X-PUBLISHED-TTL:PT1H
BEGIN:VTIMEZONE
TZID:Australia/Sydney
BEGIN:STANDARD
TZOFFSETFROM:+1100
TZOFFSETTO:+1000
TZNAME:AEST
DTSTART:20240406T160000
END:STANDARD
BEGIN:DAYLIGHT
TZOFFSETFROM:+1000
TZOFFSETTO:+1100
TZNAME:AEDT
DTSTART:20241005T160000
END:DAYLIGHT
BEGIN:STANDARD
TZOFFSETFROM:+1100
TZOFFSETTO:+1000
TZNAME:AEST
DTSTART:20250405T160000
END:STANDARD
BEGIN:DAYLIGHT
TZOFFSETFROM:+1000
TZOFFSETTO:+1100
TZNAME:AEDT
DTSTART:20251004T160000
END:DAYLIGHT
BEGIN:STANDARD
TZOFFSETFROM:+1100
TZOFFSETTO:+1000
TZNAME:AEST
DTSTART:20260404T160000
END:STANDARD
BEGIN:DAYLIGHT
TZOFFSETFROM:+1000
TZOFFSETTO:+1100
TZNAME:AEDT
DTSTART:20261003T160000
END:DAYLIGHT
BEGIN:STANDARD
TZOFFSETFROM:+1100
TZOFFSETTO:+1000
TZNAME:AEST
DTSTART:20270403T160000
END:STANDARD
BEGIN:DAYLIGHT
TZOFFSETFROM:+1000
TZOFFSETTO:+1100
TZNAME:AEDT
DTSTART:20271002T160000
END:DAYLIGHT
END:VTIMEZONE
BEGIN:VEVENT
DTSTART;TZID=Australia/Sydney:20260422T170000
DTEND;TZID=Australia/Sydney:20260422T200000
DTSTAMP:20260422T204924
CREATED:20241216T012935Z
LAST-MODIFIED:20260202T005307Z
UID:10014637-1776877200-1776888000@westwatershotel.com.au
SUMMARY:Parma Wednesday
DESCRIPTION:Catch up with friends and family over a delicious parma! 5 parma varities to choose from\, served with thick-cut chips & house salad.
URL:https://westwatershotel.com.au/whats-on/parma-wednesday/2026-04-22/
CATEGORIES:Saige Bistro
ATTACH;FMTTYPE=image/jpeg:https://westwatershotel.com.au/wp-content/uploads/sites/9/2024/12/HighRes_WestWaters_SGP_S4__302-7-scaled.jpg
END:VEVENT
BEGIN:VEVENT
DTSTART;TZID=Australia/Sydney:20260422T080000
DTEND;TZID=Australia/Sydney:20260422T170000
DTSTAMP:20260422T204924
CREATED:20241216T025834Z
LAST-MODIFIED:20241216T030314Z
UID:10018123-1776844800-1776877200@westwatershotel.com.au
SUMMARY:Wing Wednesday
DESCRIPTION:Don’t be a chicken—it’s Wing Wednesday\, baby! Get 1/2 kg of drumettes for just $9 or go big with a full kilo for only $15. Feeling bold? Choose from buffalo\, sweet chili lime\, honey soy\, or smokey BBQ. \n\n\n\nEVERY Wednesday\, 5 PM – 9 PM. Time to wing it! \n\n\n\n \n\n\n\n*Not applicable with further discounts. May not be available on public holidays or special events.
URL:https://westwatershotel.com.au/whats-on/wing-wednesday/2026-04-22/
CATEGORIES:Ruck & Rover
ATTACH;FMTTYPE=image/jpeg:https://westwatershotel.com.au/wp-content/uploads/sites/9/2024/12/LowRes_SQUARE_WestWaters_QRcode_SGP_August2024__103-scaled.jpg
END:VEVENT
BEGIN:VEVENT
DTSTART;TZID=Australia/Sydney:20260421T170000
DTEND;TZID=Australia/Sydney:20260421T210000
DTSTAMP:20260422T204924
CREATED:20241216T030254Z
LAST-MODIFIED:20250108T223548Z
UID:10015676-1776790800-1776805200@westwatershotel.com.au
SUMMARY:Bangin' Beers & Burgers Tuesday
DESCRIPTION:A Legendary Sports Bar Mateship … Beers & Burgers! EVERY Tuesday grab one of our 5 epic burgers and a schooner for $25 between 5 PM – 9 PM.  \n\n\n\n \n\n\n\n*Not applicable with further discounts. May not be available on public holidays or special events.
URL:https://westwatershotel.com.au/whats-on/beers-burgers-tuesday/2026-04-21/
CATEGORIES:Ruck & Rover
ATTACH;FMTTYPE=image/jpeg:https://westwatershotel.com.au/wp-content/uploads/sites/9/2024/12/HighRes_WestWaters_RuckandRover_SGP_S3__23-scaled.jpg
END:VEVENT
BEGIN:VEVENT
DTSTART;TZID=Australia/Sydney:20260421T170000
DTEND;TZID=Australia/Sydney:20260421T200000
DTSTAMP:20260422T204924
CREATED:20241216T011937Z
LAST-MODIFIED:20260202T005344Z
UID:10014378-1776790800-1776801600@westwatershotel.com.au
SUMMARY:T-Bone Tuesday
DESCRIPTION:At Saige Bistro\, Tuesdays are for … T-Bone! Sink your teeth into a juicy $27.50 T-Bone\, served up with thick-cut chips\, EVERY Tuesday from 5 PM – 8 PM! Feeling fancy? Add a Saige House Salad for just $3. \n\n\n\n*Not applicable with Accor discounts or further offers.
URL:https://westwatershotel.com.au/whats-on/t-bone-tuesday/2026-04-21/
CATEGORIES:Saige Bistro
ATTACH;FMTTYPE=image/jpeg:https://westwatershotel.com.au/wp-content/uploads/sites/9/2024/12/LowRes_SQUARE_WestWaters_QRcode_SGP_August2024__47-scaled.jpg
END:VEVENT
BEGIN:VEVENT
DTSTART;TZID=Australia/Sydney:20260419T143000
DTEND;TZID=Australia/Sydney:20260419T173000
DTSTAMP:20260422T204924
CREATED:20251006T003821Z
LAST-MODIFIED:20251219T023521Z
UID:10019833-1776609000-1776619800@westwatershotel.com.au
SUMMARY:Ruck & Rhythms Pub Rock
DESCRIPTION:Ruck and Rhythm is back\, bringing full-on pub rock to Caroline Springs! Roll into the pub every Sunday from 2:30 PM for live music\, cold drinks and all the good vibes your couch can’t compete with. Come for the tunes\, stay for the laughs and leave knowing your Sunday just got a whole lot louder.
URL:https://westwatershotel.com.au/whats-on/ruck-rhythms-pub-rock/2026-04-19/
CATEGORIES:Ruck & Rover
ATTACH;FMTTYPE=image/jpeg:https://westwatershotel.com.au/wp-content/uploads/sites/9/2025/10/pexels-david-bartus-43782-435840-scaled-e1759711089387.jpg
END:VEVENT
BEGIN:VEVENT
DTSTART;TZID=Australia/Sydney:20260419T120000
DTEND;TZID=Australia/Sydney:20260419T143000
DTSTAMP:20260422T204924
CREATED:20241216T013447Z
LAST-MODIFIED:20260205T222026Z
UID:10014897-1776600000-1776609000@westwatershotel.com.au
SUMMARY:Sunday Roast
DESCRIPTION:Feel like a Sunday Roast that reminds you of home without the cooking time? Saige Bistro’s Sunday Roast comes with all the good stuff including alternating meat every week and trimmings. Available from 12pm till Sold Out! \n\n\n\n \n\n\n\nCheck out our social media every Saturday to see the Sunday Roast of the Day. \n\n\n\n*15% Sunday Surcharge Applies \n\n\n\n \n\n\n\n\nBook now
URL:https://westwatershotel.com.au/whats-on/sunday-roast/2026-04-19/
CATEGORIES:Saige Bistro
ATTACH;FMTTYPE=image/jpeg:https://westwatershotel.com.au/wp-content/uploads/sites/9/2024/12/HighRes_WestWaters_SGP_JAN2026__18-scaled.jpg
END:VEVENT
BEGIN:VEVENT
DTSTART;TZID=Australia/Sydney:20260419T080000
DTEND;TZID=Australia/Sydney:20260419T170000
DTSTAMP:20260422T204924
CREATED:20260226T024149Z
LAST-MODIFIED:20260226T024423Z
UID:10020344-1776585600-1776618000@westwatershotel.com.au
SUMMARY:AFL Live & Loud
DESCRIPTION:That’s right\, legends … your favourite season is BACK  \n\n\n\n \n\n\n\nDust off the kits\, round up your mates and prepare yourselves for a some very interesting umpiring calls. AFL is live and loud at Ruck & Rover and we wouldn’t have it any other way. \n\n\n\n \n\n\n\nGrab a Carlton Draught for your chance to win a $200 AFL Shop voucher every single week – because backing a winner should come with rewards! \n\n\n\n \n\n\n\nFuel up with our $25 Footy Feast Platter stacked with potato cakes\, dim sim skewers\, onion rings\, sliders & mac and cheese croquettes. Yes\, it’s as elite as it sounds. \n\n\n\n \n\n\n\nAnd if you really want to cement legend status at the table? Beer towers are locked and loaded. \n\n\n\nCome for the footy. Stay for the chaos\, the cheers and the cold ones. \n\n\n\n \n\n\n\nRuck & Rover practices the responsible service of alcohol. 
URL:https://westwatershotel.com.au/whats-on/afl-live-loud/2026-04-19/
CATEGORIES:Ruck & Rover
ATTACH;FMTTYPE=image/jpeg:https://westwatershotel.com.au/wp-content/uploads/sites/9/2026/02/HighRes_RuckandRover_SGP_S6_August2025_EXTRA_38-2-scaled.jpg
END:VEVENT
BEGIN:VEVENT
DTSTART;TZID=Australia/Sydney:20260418T193000
DTEND;TZID=Australia/Sydney:20260418T223000
DTSTAMP:20260422T204924
CREATED:20241212T011856Z
LAST-MODIFIED:20250311T012610Z
UID:10013852-1776540600-1776551400@westwatershotel.com.au
SUMMARY:Live Music Saturdays
DESCRIPTION:Make your weekends unforgettable with Live Music Saturdays! Grab your friends\, sip on cocktails\, share a board (or two)\, and let the good vibes flow. With live music performances from 7:30 PM to 10:30 PM EVERY Saturday\, it’s your cue to dance the night away! \n\n\n\n \n\n\n\nDate:Performer:1st of MarchMish8th of MarchAngel15th fo MarchAggie22nd of MarchDhiv29th of MarchTBC
URL:https://westwatershotel.com.au/whats-on/live-music-saturdays/2026-04-18/
CATEGORIES:Miss Caroline
ATTACH;FMTTYPE=image/jpeg:https://westwatershotel.com.au/wp-content/uploads/sites/9/2024/12/HighRes_WestWaters_Socials_SGP_September2024__105-scaled.jpg
END:VEVENT
BEGIN:VEVENT
DTSTART;TZID=Australia/Sydney:20260417T193000
DTEND;TZID=Australia/Sydney:20260417T223000
DTSTAMP:20260422T204924
CREATED:20241212T010926Z
LAST-MODIFIED:20250311T012706Z
UID:10013591-1776454200-1776465000@westwatershotel.com.au
SUMMARY:Live Music Fridays
DESCRIPTION:Kick off the weekend the right way! Sip an after-work cocktail with friends & dance the night away at Miss Caroline with LIVE music performances EVERY Friday from 7:30 PM to 10:30 PM. \n\n\n\n \n\n\n\nDate:Performer:28th of FebruaryChenai7th of MarchTrent14th of MarchRicky21st of March Alinta28th of MarchLauren
URL:https://westwatershotel.com.au/whats-on/live-music-fridays/2026-04-17/
CATEGORIES:Miss Caroline
ATTACH;FMTTYPE=image/jpeg:https://westwatershotel.com.au/wp-content/uploads/sites/9/2024/12/HighRes_WestWaters_Models_SGP_S3__82-scaled-e1733965714329.jpg
END:VEVENT
BEGIN:VEVENT
DTSTART;TZID=Australia/Sydney:20260417T170000
DTEND;TZID=Australia/Sydney:20260417T203000
DTSTAMP:20260422T204924
CREATED:20241216T014105Z
LAST-MODIFIED:20250227T222652Z
UID:10015158-1776445200-1776457800@westwatershotel.com.au
SUMMARY:Date Night Friday
DESCRIPTION:Need a break from the chaos? Craving some quality time with your partner? Ditch the cooking\, skip the dishes\, and dive into dessert instead. Share stories\, laughter\, and a bottle of wine while you soak up the moment. \n\n\n\nEnjoy a three-course sharing menu for two\, including a bottle of wine\, all for just $59 each—that’s 40% off! \n\n\n\n \n\n\n\n*Not applicable with Accor discounts or further offers. Selected wines. 40% discount based on the most expensive selections; discount may be less based on customer’s selected options.
URL:https://westwatershotel.com.au/whats-on/date-night-friday/2026-04-17/
CATEGORIES:Saige Bistro
ATTACH;FMTTYPE=image/jpeg:https://westwatershotel.com.au/wp-content/uploads/sites/9/2024/12/047A4360-scaled.jpg
END:VEVENT
BEGIN:VEVENT
DTSTART;TZID=Australia/Sydney:20260416T170000
DTEND;TZID=Australia/Sydney:20260416T210000
DTSTAMP:20260422T204924
CREATED:20250727T221305Z
LAST-MODIFIED:20251008T050550Z
UID:10019475-1776358800-1776373200@westwatershotel.com.au
SUMMARY:Table for Two Thursdays
DESCRIPTION:Experience a new kind of Date Night in Caroline Springs with Miss Caroline’s Table for Two Thursdays. \n\n\n\n \n\n\n\nAvailable every Thursday from 5pm to 9pm\, you and your other half can unwind and reconnect over an intimate lakeside Date Night menu featuring your choice of share board\, two share plates and two beverages. \n\n\n\n \n\n\n\nChoose from a glass of wine or schooner of beer for $59 per couple or elevate your night with cocktails for $69 per couple. The perfect midweek escape awaits at Miss Caroline.
URL:https://westwatershotel.com.au/whats-on/table-for-two-thursdays/2026-04-16/
CATEGORIES:Miss Caroline
ATTACH;FMTTYPE=image/jpeg:https://westwatershotel.com.au/wp-content/uploads/sites/9/2025/07/HighRes_MISSCAROLINE_WestWaters_S5_June2025__154-scaled.jpg
END:VEVENT
BEGIN:VEVENT
DTSTART;TZID=Australia/Sydney:20260415T160000
DTEND;TZID=Australia/Sydney:20260415T210000
DTSTAMP:20260422T204924
CREATED:20250727T221048Z
LAST-MODIFIED:20250805T233417Z
UID:10019214-1776268800-1776286800@westwatershotel.com.au
SUMMARY:Wine & Dine Wednesdays
DESCRIPTION:That’s right\, we have another excuse for you to forget about your responsibilities and enjoy a glass with your friends. Wine and Dine Wednesdays are on every Wednesday from 4pm to 9pm at Miss Caroline. All wines are just $9 and when you purchase any share board with your wine\, it’s only $29. It’s wine time and we know you’re going to love it. \n\n\n\n \n\n\n\nWalk-ins Only *WestWaters practices the responsible service of alcohol
URL:https://westwatershotel.com.au/whats-on/wine-dine-wednesdays/2026-04-15/
CATEGORIES:Miss Caroline
ATTACH;FMTTYPE=image/jpeg:https://westwatershotel.com.au/wp-content/uploads/sites/9/2025/07/HighRes_MISSCAROLINE_WestWaters_S5_June2025__162-scaled.jpg
END:VEVENT
BEGIN:VEVENT
DTSTART;TZID=Australia/Sydney:20260407T000000
DTEND;TZID=Australia/Sydney:20260419T235959
DTSTAMP:20260422T204924
CREATED:20260330T042628Z
LAST-MODIFIED:20260330T042750Z
UID:10020475-1775520000-1776643199@westwatershotel.com.au
SUMMARY:Kids Eat Free
DESCRIPTION:Get the kid’s out these school holidays with Saige Bistro’s Kid’s Eat Free! Eligible from April 7th to 19th. T&Cs apply. One free kids meal per paying adult. Not applicable with Accor discounts or further offers. Not available on special event days.
URL:https://westwatershotel.com.au/whats-on/kids-eat-free-3/
CATEGORIES:Saige Bistro
ATTACH;FMTTYPE=image/jpeg:https://westwatershotel.com.au/wp-content/uploads/sites/9/2025/03/HighRes_WestWaters_SGP_S4__312-1-scaled.jpg
END:VEVENT
BEGIN:VEVENT
DTSTART;TZID=Australia/Sydney:20260404T113000
DTEND;TZID=Australia/Sydney:20260405T200000
DTSTAMP:20260422T204924
CREATED:20260301T223015Z
LAST-MODIFIED:20260312T222618Z
UID:10020440-1775302200-1775419200@westwatershotel.com.au
SUMMARY:Easter Seafood Feast
DESCRIPTION:Celebrate Easter with a relaxed lakeside seafood feast at Saige Bistro. Choose from our classic a la carte menu or elevate your experience with Chef’s hand-picked three-course set menu showcasing fresh\, crowd-favourite seafood\, plus your choice of a glass of wine\, beer or soft drink for $70pp. \n\n\n\n \n\n\n\nBegin with a generous selection of ocean classics including seared scallops\, prawn spring rolls\, lemon-pepper calamari and more. For mains\, settle in with beautifully prepared seafood favourites such as king prawn linguine\, atlantic salmon and the fish of the day – Barramundi. Finish on a sweet note with one of our indulgent desserts to round out the experience. \n\n\n\n \n\n\n\n\n\n\n\n\n\n\n\n\nBook Now
URL:https://westwatershotel.com.au/whats-on/easter-seafood-feast/
CATEGORIES:Saige Bistro
ATTACH;FMTTYPE=image/jpeg:https://westwatershotel.com.au/wp-content/uploads/sites/9/2026/03/HighRes_SaigeBistro__WestWaters_S5_June2025__47-5-scaled.jpg
END:VEVENT
BEGIN:VEVENT
DTSTART;TZID=Australia/Sydney:20260227T000000
DTEND;TZID=Australia/Sydney:20260405T235959
DTSTAMP:20260422T204924
CREATED:20260226T020634Z
LAST-MODIFIED:20260226T020705Z
UID:10020316-1772150400-1775433599@westwatershotel.com.au
SUMMARY:Easter Colouring Competition
DESCRIPTION:Time to hop right in and grab your Easter colouring sheets!   \n\n\n\n \n\n\n\nCalling all mini artists and talented teens\, our annual Easter Colouring Competition is back! Choose from three age categories: 0–6\, 7–10\, and 11–14. \n\n\n\n \n\n\n\nHand in your completed sheets by April 5th (Easter Sunday) for your chance to win some fantastic arts & crafts prizes. Let your creativity shine this Easter!  \n\n\n\n \n\n\n\nDownload & Print Colouring Sheets here: \n\n\n\n\n0 – 6 Years \n\n\n\n7 – 10 years\n\n\n\n11 – 14 years
URL:https://westwatershotel.com.au/whats-on/easter-colouring-competition/
CATEGORIES:Saige Bistro
ATTACH;FMTTYPE=image/png:https://westwatershotel.com.au/wp-content/uploads/sites/9/2026/02/Easter-Colouring-Competition-Saige-Instagram-Post.png
END:VEVENT
BEGIN:VEVENT
DTSTART;TZID=Australia/Sydney:20260226T080000
DTEND;TZID=Australia/Sydney:20260226T170000
DTSTAMP:20260422T204924
CREATED:20260226T024343Z
LAST-MODIFIED:20260226T024427Z
UID:10020430-1772092800-1772125200@westwatershotel.com.au
SUMMARY:Formula 1 Australian Grand Prix
DESCRIPTION:Start your engines … it’s race weekend  \n\n\n\n \n\n\n\nThe Formula 1 Australian Grand Prix is about to take over and we’re going full throttle at Ruck & Rover. Live & loud from March 6–8\, we’re turning the long weekend into a pit-lane party. \n\n\n\n \n\n\n\nEvery food or beverage purchase puts you in the running to win official Red Bull Racing merchandise! \n\n\n\n \n\n\n\nWe’re talking big screens\, surround sound\, ice-cold beers on tap\, stacked race-day feeds and enough atmosphere to make you feel like you’re trackside (minus the tyre smoke & the soaring ticket prices). \n\n\n\n \n\n\n\nRally the crew\, lock in your table and settle in for lights out and plenty of “did you see that?!” moments. \n\n\n\nFast cars. Cold drinks. Long weekend energy. \n\n\n\nRuck & Rover practices the responsible service of alcohol.
URL:https://westwatershotel.com.au/whats-on/formula-1-australian-grand-prix/
CATEGORIES:Ruck & Rover
ATTACH;FMTTYPE=image/jpeg:https://westwatershotel.com.au/wp-content/uploads/sites/9/2026/02/HighRes_WestWaters_SGP_S4__248-3-scaled.jpg
END:VEVENT
BEGIN:VEVENT
DTSTART;TZID=Australia/Sydney:20260214T120000
DTEND;TZID=Australia/Sydney:20260214T210000
DTSTAMP:20260422T204924
CREATED:20260121T235716Z
LAST-MODIFIED:20260122T000318Z
UID:10020225-1771070400-1771102800@westwatershotel.com.au
SUMMARY:Valentine's Sip & Sway
DESCRIPTION:Looking for a casual Valentine’s Day celebration with cocktails\, music and good vibes?  \n\n\n\nMiss Caroline’s Valentine’s Sip & Sway has you covered\, featuring two hand-picked cocktails\, two share plates\, a share board and dessert for $69 per couple.  \n\n\n\nKeep the romance flowing from 7:30pm with live music.  \n\n\n\nWalk-ins only. 
URL:https://westwatershotel.com.au/whats-on/valentines-sip-sway/
CATEGORIES:Miss Caroline
ATTACH;FMTTYPE=image/png:https://westwatershotel.com.au/wp-content/uploads/sites/9/2026/01/2-1.png
END:VEVENT
BEGIN:VEVENT
DTSTART;TZID=Australia/Sydney:20260214T050000
DTEND;TZID=Australia/Sydney:20260214T203000
DTSTAMP:20260422T204924
CREATED:20260122T000150Z
LAST-MODIFIED:20260122T000152Z
UID:10020226-1771045200-1771101000@westwatershotel.com.au
SUMMARY:Valentine's Day at Saige Bistro
DESCRIPTION:Make the most of Valentine’s Day and celebrate your special someone lakeside at Saige Bistro.  \n\n\n\n \n\n\n\nEnjoy the comfort of our à la carte bistro classics\, or make the evening extra special with Chef’s curated 3-course menu\, including a selected bottle of wine for $79 per person. \n\n\n\nAs the night continues\, wander through to Miss Caroline Bar and soak up the atmosphere with a live musician from 7:30pm. \n\n\n\n \n\n\n\nBookings essential. Accor Explorer blackout day. Not valid with further discounts. \n\n\n\n \n\n\n\n\nbook now
URL:https://westwatershotel.com.au/whats-on/valentines-day-at-saige-bistro/
CATEGORIES:Saige Bistro
ATTACH;FMTTYPE=image/png:https://westwatershotel.com.au/wp-content/uploads/sites/9/2026/01/1.png
END:VEVENT
BEGIN:VEVENT
DTSTART;TZID=Australia/Sydney:20260209T090000
DTEND;TZID=Australia/Sydney:20260209T170000
DTSTAMP:20260422T204924
CREATED:20260121T235419Z
LAST-MODIFIED:20260122T000436Z
UID:10020224-1770627600-1770656400@westwatershotel.com.au
SUMMARY:Superbowl LX 2026
DESCRIPTION:Super Bowl LX is live and loud at Ruck & Rover Sports Bar this Monday 9 February from 9 AM.  \n\n\n\nFeel like a true American with $10 loaded fries\, $10 hot dogs and $1 wings\, plus $20 Budweiser buckets to lock in your legend status at the table.  \n\n\n\nWe’ve got merch giveaways\, and every food purchase puts you in the draw to win 2x Super Bowl jerseys. Who knew taking a Monday sickie could feel this good? \n\n\n\n \n\n\n\n*Walk-ins Only
URL:https://westwatershotel.com.au/whats-on/superbowl-lx-2026/
CATEGORIES:Ruck & Rover
ATTACH;FMTTYPE=image/png:https://westwatershotel.com.au/wp-content/uploads/sites/9/2026/01/2.png
END:VEVENT
BEGIN:VEVENT
DTSTART;TZID=Australia/Sydney:20260126T110000
DTEND;TZID=Australia/Sydney:20260126T210000
DTSTAMP:20260422T204924
CREATED:20251219T022858Z
LAST-MODIFIED:20251219T022900Z
UID:10020175-1769425200-1769461200@westwatershotel.com.au
SUMMARY:Aussie Grill & Chill
DESCRIPTION:Alright legends\, it’s time to fire up Ruck & Rover’s Aussie Grill & Chill!We’re serving up lamb & prawn bucket specials\, soundtracked by pub rock from 2–5pm.Plus\, we’ll be handing out a heap of Stone & Wood merch throughout the arvo. One lucky winner will score the ultimate Aussie giveaway: a 70L esky\, t-shirt\, cap and towel.Honestly\, it’s basically Christmas in January … just with better weather and fewer reindeer. 🦘🍻 \n\n\n\n \n\n\n\nSee you there!
URL:https://westwatershotel.com.au/whats-on/aussie-grill-chill/
CATEGORIES:Ruck & Rover
ATTACH;FMTTYPE=image/jpeg:https://westwatershotel.com.au/wp-content/uploads/sites/9/2025/12/HighRes_WestWaters_SGP_S4__257-7-scaled.jpg
END:VEVENT
BEGIN:VEVENT
DTSTART;TZID=Australia/Sydney:20260112T110000
DTEND;TZID=Australia/Sydney:20260201T210000
DTSTAMP:20260422T204924
CREATED:20251219T032807Z
LAST-MODIFIED:20251219T032808Z
UID:10020186-1768215600-1769979600@westwatershotel.com.au
SUMMARY:Aus Open Tennis
DESCRIPTION:Peak summer has arrived and that can only mean one thing\, the Australian Open is on with a drink in hand! 🎾 \n\n\n\n \n\n\n\nRuck & Rover has your tennis fix all January\, playing live and loud and paired perfectly with our Grand Slam Grazer featuring satay chicken\, pumpkin arancini\, BBQ drumettes\, salt and pepper calamari and cheeseburger spring rolls.  \n\n\n\n \n\n\n\nAdd in Aperol Spritz for just $15 with buy one get one free and suddenly life is very good at the pub. 😉
URL:https://westwatershotel.com.au/whats-on/aus-open-tennis/
CATEGORIES:Ruck & Rover
ATTACH;FMTTYPE=image/jpeg:https://westwatershotel.com.au/wp-content/uploads/sites/9/2025/12/HighRes_RuckandRover_SGP_S6_August2025_EXTRA_31-1-scaled.jpg
END:VEVENT
BEGIN:VEVENT
DTSTART;TZID=Australia/Sydney:20251231T170000
DTEND;TZID=Australia/Sydney:20260101T000000
DTSTAMP:20260422T204924
CREATED:20251214T225125Z
LAST-MODIFIED:20251214T225128Z
UID:10020168-1767200400-1767225600@westwatershotel.com.au
SUMMARY:Bubbles before midnight NYE package
DESCRIPTION:Pop the bubbles\, it’s New Years at Miss Caroline. For $79\, round up your favourite plus-one and dive into our New Year’s Eve package for two: a loaded share board\, two share plates and two glasses of sparkling to keep the good vibes flowing. \n\n\n\nServing from 5pm – 9pm\, partying on until 12am.Walk-ins only. 
URL:https://westwatershotel.com.au/whats-on/bubbles-before-midnight-nye-package/
CATEGORIES:Miss Caroline
ATTACH;FMTTYPE=image/jpeg:https://westwatershotel.com.au/wp-content/uploads/sites/9/2025/12/HighRes_MISSCAROLINE_WestWaters_S5_June2025__135-1-scaled.jpg
END:VEVENT
BEGIN:VEVENT
DTSTART;TZID=Australia/Sydney:20251231T170000
DTEND;TZID=Australia/Sydney:20251231T200000
DTSTAMP:20260422T204924
CREATED:20251212T012429Z
LAST-MODIFIED:20251212T012432Z
UID:10020163-1767200400-1767211200@westwatershotel.com.au
SUMMARY:Saige New Years Eve Dinner
DESCRIPTION:Ring in the end of 2025 and welcome 2026 at Saige Bistro! Enjoy a lakeside dining experience with our regular à la carte menu or take it up a notch with our chef’s specially curated three-course sharing menu\, complete with a bottle of sparkling wine and two selected cocktails\, for just $79 per person. \n\n\n\n \n\n\n\nBookings Recommended | December 31st 5pm – 8pm \n\n\n\nNot applicable with Accor Explorer or further discounts. \n\n\n\n \n\n\n\n\nVIEW MENU\n\n\n\nBOOK NOW
URL:https://westwatershotel.com.au/whats-on/saige-new-years-eve-dinner/
CATEGORIES:Saige Bistro
ATTACH;FMTTYPE=image/jpeg:https://westwatershotel.com.au/wp-content/uploads/sites/9/2024/12/functions-events.jpg
END:VEVENT
BEGIN:VEVENT
DTSTART;TZID=Australia/Sydney:20251225T113000
DTEND;TZID=Australia/Sydney:20251225T130000
DTSTAMP:20260422T204924
CREATED:20251007T041307Z
LAST-MODIFIED:20251010T032427Z
UID:10020076-1766662200-1766667600@westwatershotel.com.au
SUMMARY:Christmas Lunch At Saige
DESCRIPTION:Saige Bistro is the place to celebrate Christmas with your family and friends\, where great food\, refreshing drinks and even better company come together. Indulge in a chef-handpicked three-course feast with a beverage package to match. \n\n\n\n \n\n\n\nAdults | 159 pp \n\n\n\nChildren 12 – 17 yo | 99 pp \n\n\n\nChildren 3 – 11 yo | 49 pp \n\n\n\n \n\n\n\nTO START \n\n\n\nSeafood & Charcuterie grazing platter to share\, \n\n\n\noysters\, prawns\, smoked salmon\, cured meats\, chargrilled veg\, selection of cheese\, lavosh & dips. \n\n\n\nMAINS \n\n\n\nTrio of Meats\, honey glazed lamb rump & mint jus\, MSA graded eye fillet steak & garlic butter\, roast pork loin & apple puree.  \n\n\n\nSides to share\, roast potatoes\, butternut pumpkin\, smoked corn cobs\, greens & summer caesar salad.  \n\n\n\nDESSERT \n\n\n\nDessert Sampler\, raspberry mousse\, white chocolate tart\, lemon meringue tart & caramel chocolate tart.  \n\n\n\nTO DRINK \n\n\n\n2-hour beverage package of selected beer\, wine & soft drink. \n\n\n\n \n\n\n\nBookings Required. Not applicable with further discounts. $30 deposit per person is required upon booking. Our friendly team will be in contact closer to Christmas for final payment. Please let us know of any dietary requirements at the time of booking.  \n\n\n\n \n\n\n\nPlease see in depth T&Cs & Booking Policy upon booking.  \n\n\n\n\nbook now\n\n\n\nVIEW MENU
URL:https://westwatershotel.com.au/whats-on/christmas-lunch-at-saige/
CATEGORIES:Saige Bistro
ATTACH;FMTTYPE=image/png:https://westwatershotel.com.au/wp-content/uploads/sites/9/2025/10/Untitled-design-2025-10-10T142319.704.png
END:VEVENT
BEGIN:VEVENT
DTSTART;TZID=Australia/Sydney:20251223T190000
DTEND;TZID=Australia/Sydney:20251223T230000
DTSTAMP:20260422T204924
CREATED:20250108T231315Z
LAST-MODIFIED:20250108T231317Z
UID:10017491-1766516400-1766530800@westwatershotel.com.au
SUMMARY:Trivia Night
DESCRIPTION:Tuesdays are for showing off that massive brain of yours. Think you’re a genius? Prove it. Trivia’s on\, and the winner gets the ultimate prize: endless bragging rights over your mates. Oh\, and don’t even try blaming hunger for a dodgy answer—Beer & Burger Tuesday’s here to keep you fueled. Big brains\, big burgers\, big vibes. Be there. \n\n\n\n \n\n\n\nRegistration from 7:00 pm \n\n\n\nKick-off from 7:30 pm
URL:https://westwatershotel.com.au/whats-on/trivia-night/2025-12-23/
CATEGORIES:Ruck & Rover
ATTACH;FMTTYPE=image/jpeg:https://westwatershotel.com.au/wp-content/uploads/sites/9/2025/01/HighRes_WestWaters_Socials_SGP_September2024__71-1-scaled.jpg
END:VEVENT
BEGIN:VEVENT
DTSTART;TZID=Australia/Sydney:20251222T110000
DTEND;TZID=Australia/Sydney:20260131T200000
DTSTAMP:20260422T204924
CREATED:20251214T235648Z
LAST-MODIFIED:20251219T023531Z
UID:10020169-1766401200-1769889600@westwatershotel.com.au
SUMMARY:Kids Eat Free
DESCRIPTION:Get the kid’s out these school holidays with Saige Bistro’s Kid’s Eat Free! Eligible from December 22nd to January 31st. T&Cs apply. One free kids meal per paying adult. Not applicable with Accor discounts or further offers. Not available for Christmas lunch or on special event days.
URL:https://westwatershotel.com.au/whats-on/kids-eat-free/
CATEGORIES:Saige Bistro
ATTACH;FMTTYPE=image/jpeg:https://westwatershotel.com.au/wp-content/uploads/sites/9/2024/12/HighRes_WestWaters_Socials_SGP_September2024__3-3-scaled-e1734320794353.jpg
END:VEVENT
BEGIN:VEVENT
DTSTART;TZID=Australia/Sydney:20251216T190000
DTEND;TZID=Australia/Sydney:20251216T230000
DTSTAMP:20260422T204924
CREATED:20251230T081510Z
LAST-MODIFIED:20251230T081527Z
UID:10017492-1765911600-1765926000@westwatershotel.com.au
SUMMARY:Trivia Night
DESCRIPTION:Tuesdays are for showing off that massive brain of yours. Think you’re a genius? Prove it. Trivia’s on\, and the winner gets the ultimate prize: endless bragging rights over your mates. Oh\, and don’t even try blaming hunger for a dodgy answer—Beer & Burger Tuesday’s here to keep you fueled. Big brains\, big burgers\, big vibes. Be there. \n\n\n\n \n\n\n\nRegistration from 7:00 pm \n\n\n\nKick-off from 7:30 pm
URL:https://westwatershotel.com.au/whats-on/trivia-night-2/
CATEGORIES:Ruck & Rover
ATTACH;FMTTYPE=image/jpeg:https://westwatershotel.com.au/wp-content/uploads/sites/9/2025/01/HighRes_WestWaters_Socials_SGP_September2024__71-1-scaled.jpg
END:VEVENT
BEGIN:VEVENT
DTSTART;TZID=Australia/Sydney:20251122T110000
DTEND;TZID=Australia/Sydney:20251122T170000
DTSTAMP:20260422T204924
CREATED:20250827T000000Z
LAST-MODIFIED:20251012T233402Z
UID:10019744-1763809200-1763830800@westwatershotel.com.au
SUMMARY:Caroline Springs Beer\, Food & Wine Festival
DESCRIPTION:Gather your crew and soak up a day filled with flavour\, fun and sunshine. Sip and savour your way through regional wines\, craft beers\, signature cocktails and delicious eats\, all while enjoying live music from talented local artists. With a buzzing festival vibe and kids’ entertainment\, it’s the perfect recipe for an unforgettable day out. \n\n\n\n \n\n\n\nFREE EVENT | FAMILY FRIENDLY | LIVE MUSIC \n\n\n\n \n\n\n\nFor more information please click the button below to access the Caroline Springs Beer\, Food & Wine Festival Event Page! \n\n\n\n \n\n\n\n\nBFW EVENT PAGE\n\n\n\nRSVP | FACEBOOK EVENT
URL:https://westwatershotel.com.au/whats-on/westwaters-beer-food-wine-festival/
ATTACH;FMTTYPE=image/jpeg:https://westwatershotel.com.au/wp-content/uploads/sites/9/2025/08/TBH-BFWF-24-FULL-ALBUM-47-scaled-e1756085636320.jpg
END:VEVENT
END:VCALENDAR