BEGIN:VCALENDAR
VERSION:2.0
PRODID:-//WestWaters - ECPv6.15.18//NONSGML v1.0//EN
CALSCALE:GREGORIAN
METHOD:PUBLISH
X-WR-CALNAME:WestWaters
X-ORIGINAL-URL:https://westwatershotel.com.au
X-WR-CALDESC:Events for WestWaters
REFRESH-INTERVAL;VALUE=DURATION:PT1H
X-Robots-Tag:noindex
X-PUBLISHED-TTL:PT1H
BEGIN:VTIMEZONE
TZID:Australia/Sydney
BEGIN:STANDARD
TZOFFSETFROM:+1100
TZOFFSETTO:+1000
TZNAME:AEST
DTSTART:20250405T160000
END:STANDARD
BEGIN:DAYLIGHT
TZOFFSETFROM:+1000
TZOFFSETTO:+1100
TZNAME:AEDT
DTSTART:20251004T160000
END:DAYLIGHT
BEGIN:STANDARD
TZOFFSETFROM:+1100
TZOFFSETTO:+1000
TZNAME:AEST
DTSTART:20260404T160000
END:STANDARD
BEGIN:DAYLIGHT
TZOFFSETFROM:+1000
TZOFFSETTO:+1100
TZNAME:AEDT
DTSTART:20261003T160000
END:DAYLIGHT
BEGIN:STANDARD
TZOFFSETFROM:+1100
TZOFFSETTO:+1000
TZNAME:AEST
DTSTART:20270403T160000
END:STANDARD
BEGIN:DAYLIGHT
TZOFFSETFROM:+1000
TZOFFSETTO:+1100
TZNAME:AEDT
DTSTART:20271002T160000
END:DAYLIGHT
END:VTIMEZONE
BEGIN:VEVENT
DTSTART;TZID=Australia/Sydney:20260422T160000
DTEND;TZID=Australia/Sydney:20260422T210000
DTSTAMP:20260422T191821
CREATED:20250727T221048Z
LAST-MODIFIED:20250805T233417Z
UID:10019215-1776873600-1776891600@westwatershotel.com.au
SUMMARY:Wine & Dine Wednesdays
DESCRIPTION:That’s right\, we have another excuse for you to forget about your responsibilities and enjoy a glass with your friends. Wine and Dine Wednesdays are on every Wednesday from 4pm to 9pm at Miss Caroline. All wines are just $9 and when you purchase any share board with your wine\, it’s only $29. It’s wine time and we know you’re going to love it. \n\n\n\n \n\n\n\nWalk-ins Only *WestWaters practices the responsible service of alcohol
URL:https://westwatershotel.com.au/whats-on/wine-dine-wednesdays/2026-04-22/
CATEGORIES:Miss Caroline
ATTACH;FMTTYPE=image/jpeg:https://westwatershotel.com.au/wp-content/uploads/sites/9/2025/07/HighRes_MISSCAROLINE_WestWaters_S5_June2025__162-scaled.jpg
END:VEVENT
BEGIN:VEVENT
DTSTART;TZID=Australia/Sydney:20260422T170000
DTEND;TZID=Australia/Sydney:20260422T200000
DTSTAMP:20260422T191821
CREATED:20241216T012935Z
LAST-MODIFIED:20260202T005307Z
UID:10014637-1776877200-1776888000@westwatershotel.com.au
SUMMARY:Parma Wednesday
DESCRIPTION:Catch up with friends and family over a delicious parma! 5 parma varities to choose from\, served with thick-cut chips & house salad.
URL:https://westwatershotel.com.au/whats-on/parma-wednesday/2026-04-22/
CATEGORIES:Saige Bistro
ATTACH;FMTTYPE=image/jpeg:https://westwatershotel.com.au/wp-content/uploads/sites/9/2024/12/HighRes_WestWaters_SGP_S4__302-7-scaled.jpg
END:VEVENT
BEGIN:VEVENT
DTSTART;TZID=Australia/Sydney:20260423T080000
DTEND;TZID=Australia/Sydney:20260423T170000
DTSTAMP:20260422T191821
CREATED:20260226T024149Z
LAST-MODIFIED:20260226T024423Z
UID:10020345-1776931200-1776963600@westwatershotel.com.au
SUMMARY:AFL Live & Loud
DESCRIPTION:That’s right\, legends … your favourite season is BACK  \n\n\n\n \n\n\n\nDust off the kits\, round up your mates and prepare yourselves for a some very interesting umpiring calls. AFL is live and loud at Ruck & Rover and we wouldn’t have it any other way. \n\n\n\n \n\n\n\nGrab a Carlton Draught for your chance to win a $200 AFL Shop voucher every single week – because backing a winner should come with rewards! \n\n\n\n \n\n\n\nFuel up with our $25 Footy Feast Platter stacked with potato cakes\, dim sim skewers\, onion rings\, sliders & mac and cheese croquettes. Yes\, it’s as elite as it sounds. \n\n\n\n \n\n\n\nAnd if you really want to cement legend status at the table? Beer towers are locked and loaded. \n\n\n\nCome for the footy. Stay for the chaos\, the cheers and the cold ones. \n\n\n\n \n\n\n\nRuck & Rover practices the responsible service of alcohol. 
URL:https://westwatershotel.com.au/whats-on/afl-live-loud/2026-04-23/
CATEGORIES:Ruck & Rover
ATTACH;FMTTYPE=image/jpeg:https://westwatershotel.com.au/wp-content/uploads/sites/9/2026/02/HighRes_RuckandRover_SGP_S6_August2025_EXTRA_38-2-scaled.jpg
END:VEVENT
BEGIN:VEVENT
DTSTART;TZID=Australia/Sydney:20260423T170000
DTEND;TZID=Australia/Sydney:20260423T210000
DTSTAMP:20260422T191821
CREATED:20250727T221305Z
LAST-MODIFIED:20251008T050550Z
UID:10019476-1776963600-1776978000@westwatershotel.com.au
SUMMARY:Table for Two Thursdays
DESCRIPTION:Experience a new kind of Date Night in Caroline Springs with Miss Caroline’s Table for Two Thursdays. \n\n\n\n \n\n\n\nAvailable every Thursday from 5pm to 9pm\, you and your other half can unwind and reconnect over an intimate lakeside Date Night menu featuring your choice of share board\, two share plates and two beverages. \n\n\n\n \n\n\n\nChoose from a glass of wine or schooner of beer for $59 per couple or elevate your night with cocktails for $69 per couple. The perfect midweek escape awaits at Miss Caroline.
URL:https://westwatershotel.com.au/whats-on/table-for-two-thursdays/2026-04-23/
CATEGORIES:Miss Caroline
ATTACH;FMTTYPE=image/jpeg:https://westwatershotel.com.au/wp-content/uploads/sites/9/2025/07/HighRes_MISSCAROLINE_WestWaters_S5_June2025__154-scaled.jpg
END:VEVENT
BEGIN:VEVENT
DTSTART;TZID=Australia/Sydney:20260424T170000
DTEND;TZID=Australia/Sydney:20260424T203000
DTSTAMP:20260422T191821
CREATED:20241216T014105Z
LAST-MODIFIED:20250227T222652Z
UID:10015159-1777050000-1777062600@westwatershotel.com.au
SUMMARY:Date Night Friday
DESCRIPTION:Need a break from the chaos? Craving some quality time with your partner? Ditch the cooking\, skip the dishes\, and dive into dessert instead. Share stories\, laughter\, and a bottle of wine while you soak up the moment. \n\n\n\nEnjoy a three-course sharing menu for two\, including a bottle of wine\, all for just $59 each—that’s 40% off! \n\n\n\n \n\n\n\n*Not applicable with Accor discounts or further offers. Selected wines. 40% discount based on the most expensive selections; discount may be less based on customer’s selected options.
URL:https://westwatershotel.com.au/whats-on/date-night-friday/2026-04-24/
CATEGORIES:Saige Bistro
ATTACH;FMTTYPE=image/jpeg:https://westwatershotel.com.au/wp-content/uploads/sites/9/2024/12/047A4360-scaled.jpg
END:VEVENT
BEGIN:VEVENT
DTSTART;TZID=Australia/Sydney:20260424T193000
DTEND;TZID=Australia/Sydney:20260424T223000
DTSTAMP:20260422T191821
CREATED:20241212T010926Z
LAST-MODIFIED:20250311T012706Z
UID:10013592-1777059000-1777069800@westwatershotel.com.au
SUMMARY:Live Music Fridays
DESCRIPTION:Kick off the weekend the right way! Sip an after-work cocktail with friends & dance the night away at Miss Caroline with LIVE music performances EVERY Friday from 7:30 PM to 10:30 PM. \n\n\n\n \n\n\n\nDate:Performer:28th of FebruaryChenai7th of MarchTrent14th of MarchRicky21st of March Alinta28th of MarchLauren
URL:https://westwatershotel.com.au/whats-on/live-music-fridays/2026-04-24/
CATEGORIES:Miss Caroline
ATTACH;FMTTYPE=image/jpeg:https://westwatershotel.com.au/wp-content/uploads/sites/9/2024/12/HighRes_WestWaters_Models_SGP_S3__82-scaled-e1733965714329.jpg
END:VEVENT
BEGIN:VEVENT
DTSTART;TZID=Australia/Sydney:20260425T000000
DTEND;TZID=Australia/Sydney:20260425T235959
DTSTAMP:20260422T191821
CREATED:20260415T020931Z
LAST-MODIFIED:20260415T020934Z
UID:10020515-1777075200-1777161599@westwatershotel.com.au
SUMMARY:Anzac Day
DESCRIPTION:On ANZAC Day\, we pause to remember and honour the courage\, sacrifice and service of all who have served and those who continue to serve. It’s a day of reflection\, gratitude and respect across the country. \n\n\n\n \n\n\n\nAnd as tradition continues at the footy\, we turn our attention to ANZAC Day clash at the MCG\, Collingwood Magpies vs Essendon Bombers. A match that carries the spirit of remembrance\, mateship and pride in every moment. \n\n\n\n \n\n\n\nWe will remember them. \n\n\n\n \n\n\n\nBuy any Carolton Draft for your chance to win a $200 AFL Shop Voucher. \n\n\n\n*Ruck & Rover practices the responsible service of alcohol.
URL:https://westwatershotel.com.au/whats-on/anzac-day/
CATEGORIES:Ruck & Rover
ATTACH;FMTTYPE=image/png:https://westwatershotel.com.au/wp-content/uploads/sites/9/2026/04/Anzac-Day-Ruck-Rover-59.4-x-84.1-cm-Instagram-Post-2.png
END:VEVENT
BEGIN:VEVENT
DTSTART;TZID=Australia/Sydney:20260425T193000
DTEND;TZID=Australia/Sydney:20260425T223000
DTSTAMP:20260422T191821
CREATED:20241212T011856Z
LAST-MODIFIED:20250311T012610Z
UID:10013853-1777145400-1777156200@westwatershotel.com.au
SUMMARY:Live Music Saturdays
DESCRIPTION:Make your weekends unforgettable with Live Music Saturdays! Grab your friends\, sip on cocktails\, share a board (or two)\, and let the good vibes flow. With live music performances from 7:30 PM to 10:30 PM EVERY Saturday\, it’s your cue to dance the night away! \n\n\n\n \n\n\n\nDate:Performer:1st of MarchMish8th of MarchAngel15th fo MarchAggie22nd of MarchDhiv29th of MarchTBC
URL:https://westwatershotel.com.au/whats-on/live-music-saturdays/2026-04-25/
CATEGORIES:Miss Caroline
ATTACH;FMTTYPE=image/jpeg:https://westwatershotel.com.au/wp-content/uploads/sites/9/2024/12/HighRes_WestWaters_Socials_SGP_September2024__105-scaled.jpg
END:VEVENT
BEGIN:VEVENT
DTSTART;TZID=Australia/Sydney:20260426T120000
DTEND;TZID=Australia/Sydney:20260426T143000
DTSTAMP:20260422T191821
CREATED:20241216T013447Z
LAST-MODIFIED:20260205T222026Z
UID:10014898-1777204800-1777213800@westwatershotel.com.au
SUMMARY:Sunday Roast
DESCRIPTION:Feel like a Sunday Roast that reminds you of home without the cooking time? Saige Bistro’s Sunday Roast comes with all the good stuff including alternating meat every week and trimmings. Available from 12pm till Sold Out! \n\n\n\n \n\n\n\nCheck out our social media every Saturday to see the Sunday Roast of the Day. \n\n\n\n*15% Sunday Surcharge Applies \n\n\n\n \n\n\n\n\nBook now
URL:https://westwatershotel.com.au/whats-on/sunday-roast/2026-04-26/
CATEGORIES:Saige Bistro
ATTACH;FMTTYPE=image/jpeg:https://westwatershotel.com.au/wp-content/uploads/sites/9/2024/12/HighRes_WestWaters_SGP_JAN2026__18-scaled.jpg
END:VEVENT
BEGIN:VEVENT
DTSTART;TZID=Australia/Sydney:20260426T143000
DTEND;TZID=Australia/Sydney:20260426T173000
DTSTAMP:20260422T191821
CREATED:20251006T003821Z
LAST-MODIFIED:20251219T023521Z
UID:10019834-1777213800-1777224600@westwatershotel.com.au
SUMMARY:Ruck & Rhythms Pub Rock
DESCRIPTION:Ruck and Rhythm is back\, bringing full-on pub rock to Caroline Springs! Roll into the pub every Sunday from 2:30 PM for live music\, cold drinks and all the good vibes your couch can’t compete with. Come for the tunes\, stay for the laughs and leave knowing your Sunday just got a whole lot louder.
URL:https://westwatershotel.com.au/whats-on/ruck-rhythms-pub-rock/2026-04-26/
CATEGORIES:Ruck & Rover
ATTACH;FMTTYPE=image/jpeg:https://westwatershotel.com.au/wp-content/uploads/sites/9/2025/10/pexels-david-bartus-43782-435840-scaled-e1759711089387.jpg
END:VEVENT
BEGIN:VEVENT
DTSTART;TZID=Australia/Sydney:20260428T170000
DTEND;TZID=Australia/Sydney:20260428T200000
DTSTAMP:20260422T191821
CREATED:20241216T011937Z
LAST-MODIFIED:20260202T005344Z
UID:10014379-1777395600-1777406400@westwatershotel.com.au
SUMMARY:T-Bone Tuesday
DESCRIPTION:At Saige Bistro\, Tuesdays are for … T-Bone! Sink your teeth into a juicy $27.50 T-Bone\, served up with thick-cut chips\, EVERY Tuesday from 5 PM – 8 PM! Feeling fancy? Add a Saige House Salad for just $3. \n\n\n\n*Not applicable with Accor discounts or further offers.
URL:https://westwatershotel.com.au/whats-on/t-bone-tuesday/2026-04-28/
CATEGORIES:Saige Bistro
ATTACH;FMTTYPE=image/jpeg:https://westwatershotel.com.au/wp-content/uploads/sites/9/2024/12/LowRes_SQUARE_WestWaters_QRcode_SGP_August2024__47-scaled.jpg
END:VEVENT
BEGIN:VEVENT
DTSTART;TZID=Australia/Sydney:20260428T170000
DTEND;TZID=Australia/Sydney:20260428T210000
DTSTAMP:20260422T191821
CREATED:20241216T030254Z
LAST-MODIFIED:20250108T223548Z
UID:10015677-1777395600-1777410000@westwatershotel.com.au
SUMMARY:Bangin' Beers & Burgers Tuesday
DESCRIPTION:A Legendary Sports Bar Mateship … Beers & Burgers! EVERY Tuesday grab one of our 5 epic burgers and a schooner for $25 between 5 PM – 9 PM.  \n\n\n\n \n\n\n\n*Not applicable with further discounts. May not be available on public holidays or special events.
URL:https://westwatershotel.com.au/whats-on/beers-burgers-tuesday/2026-04-28/
CATEGORIES:Ruck & Rover
ATTACH;FMTTYPE=image/jpeg:https://westwatershotel.com.au/wp-content/uploads/sites/9/2024/12/HighRes_WestWaters_RuckandRover_SGP_S3__23-scaled.jpg
END:VEVENT
BEGIN:VEVENT
DTSTART;TZID=Australia/Sydney:20260429T080000
DTEND;TZID=Australia/Sydney:20260429T170000
DTSTAMP:20260422T191821
CREATED:20241216T025834Z
LAST-MODIFIED:20241216T030314Z
UID:10018124-1777449600-1777482000@westwatershotel.com.au
SUMMARY:Wing Wednesday
DESCRIPTION:Don’t be a chicken—it’s Wing Wednesday\, baby! Get 1/2 kg of drumettes for just $9 or go big with a full kilo for only $15. Feeling bold? Choose from buffalo\, sweet chili lime\, honey soy\, or smokey BBQ. \n\n\n\nEVERY Wednesday\, 5 PM – 9 PM. Time to wing it! \n\n\n\n \n\n\n\n*Not applicable with further discounts. May not be available on public holidays or special events.
URL:https://westwatershotel.com.au/whats-on/wing-wednesday/2026-04-29/
CATEGORIES:Ruck & Rover
ATTACH;FMTTYPE=image/jpeg:https://westwatershotel.com.au/wp-content/uploads/sites/9/2024/12/LowRes_SQUARE_WestWaters_QRcode_SGP_August2024__103-scaled.jpg
END:VEVENT
BEGIN:VEVENT
DTSTART;TZID=Australia/Sydney:20260502T120000
DTEND;TZID=Australia/Sydney:20260502T140000
DTSTAMP:20260422T191821
CREATED:20260325T030144Z
LAST-MODIFIED:20260422T043444Z
UID:10020467-1777723200-1777730400@westwatershotel.com.au
SUMMARY:Biggest Morning Tea for the Cancer Council
DESCRIPTION:Help raise vital funds for the Cancer Council at Miss Caroline’s Biggest Morning Tea\, proudly sponsored by Soul Growers winery in the Barossa Valley. Indulge in a decadent high tea spread including house made scones\, savoury sandwiches and sweet petit four selection.  \n\n\n\n \n\n\n\nBottomless tea & filtered coffee | $55pp \n\n\n\nBottomless tea\, filtered coffee & a glass of house wine\, mimosa or lychee iced tea mocktail | $60pp \n\n\n\n \n\n\n\n$5 from every ticket is donated to the Cancer Council!  \n\n\n\nAccor Members Special – Purchase any two packages for $20 off! \n\n\n\n$10 deposit is required per person at booking. \n\n\n\n \n\n\n\n\n\n\n\n\n\n\n\n\nBOOK NOW\n\n\n\nVIEW MENU
URL:https://westwatershotel.com.au/whats-on/biggest-morning-tea-for-the-cancer-council/
CATEGORIES:Miss Caroline
ATTACH;FMTTYPE=image/png:https://westwatershotel.com.au/wp-content/uploads/sites/9/2026/03/7.png
END:VEVENT
BEGIN:VEVENT
DTSTART;TZID=Australia/Sydney:20260510T113000
DTEND;TZID=Australia/Sydney:20260510T200000
DTSTAMP:20260422T191821
CREATED:20260330T020101Z
LAST-MODIFIED:20260422T043601Z
UID:10020474-1778412600-1778443200@westwatershotel.com.au
SUMMARY:Mother's Day Dining
DESCRIPTION:Give Mum the thank you she truly deserves\, surrounded by great company and bistro classics she’s sure to love. \n\n\n\n \n\n\n\nChoose to dine lakeside from our signature menu or elevate her experience with a chef-curated three-course set menu\, featuring the very best of our dishes and including a beer\, wine or soft drink for $70 per person. \n\n\n\n \n\n\n\nMake it a moment she’ll remember long after the last bite.  \n\n\n\nBookings Essential. \n\n\n\n\n\n\n\n\nBook Now
URL:https://westwatershotel.com.au/whats-on/mothers-day-dining/
CATEGORIES:Saige Bistro
ATTACH;FMTTYPE=image/jpeg:https://westwatershotel.com.au/wp-content/uploads/sites/9/2026/03/LowRes_WestWaters_Models_SGP_S3__98-scaled.jpg
END:VEVENT
BEGIN:VEVENT
DTSTART;TZID=Australia/Sydney:20260510T120000
DTEND;TZID=Australia/Sydney:20260510T153000
DTSTAMP:20260422T191821
CREATED:20260330T015543Z
LAST-MODIFIED:20260422T043356Z
UID:10020473-1778414400-1778427000@westwatershotel.com.au
SUMMARY:Mother's Day High Tea
DESCRIPTION:Celebrate Mum with a lakeside indulgence\, enjoying a beautifully curated high tea with house-made scones\, delicate savoury sandwiches and a selection of sweet petit fours.  \n\n\n\nChoose bottomless tea and filtered coffee for $55 per person or elevate the experience with a glass of house wine\, mimosa or lychee iced tea mocktail for $60 per person. \n\n\n\n \n\n\n\nAccor Members can enjoy $20 off when purchasing any two packages.  \n\n\n\nTwo sessions are available\, 12:00pm to 1:30pm or 2:00pm to 3:30pm\, for an afternoon designed to celebrate Mum in style. \n\n\n\nBookings Required. \n\n\n\n \n\n\n\n\n\n\n\n\n\n\n\n\nBook Now\n\n\n\nVIEW MENU
URL:https://westwatershotel.com.au/whats-on/mothers-day-high-tea/
CATEGORIES:Miss Caroline
ATTACH;FMTTYPE=image/png:https://westwatershotel.com.au/wp-content/uploads/sites/9/2026/03/5.png
END:VEVENT
END:VCALENDAR